BEGIN:VCALENDAR
VERSION:2.0
PRODID:-//Essential Institute by Cris Bolívar
CALSCALE:GREGORIAN
METHOD:PUBLISH
X-WR-CALNAME:Essential Institute by Cris Bolívar
X-ORIGINAL-URL:https://www.essentialinstitute.org/tienda/_eventos/conferencias/q9-introduccion-al-eneagrama-cris-bolivar/
X-WR-CALDESC:+Q9 «INTRODUCCIÓN AL ENEAGRAMA», por Cris Bolívar
BEGIN:VEVENT
DTSTART;TZID=Europe/Helsinki:20211119T190000
DTEND;TZID=Europe/Helsinki:20211119T210000
SUMMARY:+Q9 «INTRODUCCIÓN AL ENEAGRAMA», por Cris Bolívar
DESCRIPTION:¿Quieres saber lo que realmente es el Eneagrama?, descúbrelo desde la Asociación de Eneagrama de España por Cris Bolívar, Profesional Acreditada con Distinción (ATP) por la International Enneagram Association (IEA).
URL:https://www.essentialinstitute.org/tienda/_eventos/conferencias/q9-introduccion-al-eneagrama-cris-bolivar/
LOCATION:
END:VEVENT
END:VCALENDAR
