BEGIN:VCALENDAR
VERSION:2.0
PRODID:-//Essential Institute by Cris Bolívar
CALSCALE:GREGORIAN
METHOD:PUBLISH
X-WR-CALNAME:Essential Institute by Cris Bolívar
X-ORIGINAL-URL:https://www.essentialinstitute.org/tienda/_eventos/coaching/charla-gratuita-la-mirada-del-coaching-esencial-mas-alla-los-egos-presentacion-del-programa-integral-formacion-coaching-esencial-aula-virtual-5/
X-WR-CALDESC:Charla GRATUITA sobre «La mirada del COACHING ESENCIAL más allá de los egos» y presentación del Programa Integral de Formación en Coaching Esencial &#8211; Aula virtual
BEGIN:VEVENT
DTSTART;TZID=Europe/Helsinki:20220112T150000
DTEND;TZID=Europe/Helsinki:20220112T160000
SUMMARY:Charla GRATUITA sobre «La mirada del COACHING ESENCIAL más allá de los egos» y presentación del Programa Integral de Formación en Coaching Esencial – Aula virtual
DESCRIPTION:En esta charla, de una forma interactiva y distendida, descubriremos aspectos clave de la mirada esencial, la formación, los beneficios de la formación en Coaching Esencial, los requisitos para acreditarse...
URL:https://www.essentialinstitute.org/tienda/_eventos/coaching/charla-gratuita-la-mirada-del-coaching-esencial-mas-alla-los-egos-presentacion-del-programa-integral-formacion-coaching-esencial-aula-virtual-5/
LOCATION:
END:VEVENT
END:VCALENDAR
