BEGIN:VCALENDAR
VERSION:2.0
PRODID:-//Essential Institute by Cris Bolívar
CALSCALE:GREGORIAN
METHOD:PUBLISH
X-WR-CALNAME:Essential Institute by Cris Bolívar
X-ORIGINAL-URL:https://www.essentialinstitute.org/tienda/_eventos/coaching/charla-gratuita-las-claves-la-alquimia-viaje-al-vivir-plenitud-presentacion-del-programa-viaje-alquimico-aula-virtual-2/
X-WR-CALDESC:Charla GRATUITA sobre «Las claves de la alquimia y el viaje al ser para vivir en plenitud» y presentación del programa «El viaje alquímico» &#8211; Aula virtual
BEGIN:VEVENT
DTSTART;TZID=Europe/Helsinki:20220204T150000
DTEND;TZID=Europe/Helsinki:20220204T160000
SUMMARY:Charla GRATUITA sobre «Las claves de la alquimia y el viaje al ser para vivir en plenitud» y presentación del programa «El viaje alquímico» – Aula virtual
DESCRIPTION:En esta charla, de una forma interactiva y distendida, descubriremos... ¿Cuáles son las claves de la alquimia? ¿Las etapas del viaje alquímico que nos llevan a ir más allá del ego? Las meta-competencias del Ser y la alquimia. ¿Cómo es el Programa El viaje alquímico? ¿Qué me trae a nivel personal y profesional hacer el Programa El viaje alquímico? ...
URL:https://www.essentialinstitute.org/tienda/_eventos/coaching/charla-gratuita-las-claves-la-alquimia-viaje-al-vivir-plenitud-presentacion-del-programa-viaje-alquimico-aula-virtual-2/
LOCATION:
END:VEVENT
END:VCALENDAR
