BEGIN:VCALENDAR
VERSION:2.0
PRODID:-//Essential Institute by Cris Bolívar
CALSCALE:GREGORIAN
METHOD:PUBLISH
X-WR-CALNAME:Essential Institute by Cris Bolívar
X-ORIGINAL-URL:https://www.essentialinstitute.org/tienda/_eventos/coaching/demo-sesion-meta-vision-super-vision-coaches-semana-internacional-coaching-mayo22/
X-WR-CALDESC:DEMO SESIÓN DE META-VISIÓN / SUPER-VISIÓN PARA COACHES &#8211; Semana Internacional de Coaching mayo&#8217;22
BEGIN:VEVENT
DTSTART;TZID=Europe/Helsinki:20220518T150000
DTEND;TZID=Europe/Helsinki:20220518T160000
SUMMARY:DEMO SESIÓN DE META-VISIÓN / SUPER-VISIÓN PARA COACHES – Semana Internacional de Coaching mayo’22
DESCRIPTION:Dentro de la Semana Internacional de Coaching mayo'22 de la International Coaching Federation. Cris Bolívar hará una "DEMO SESIÓN DE META-VISIÓN / SUPER-VISIÓN PARA COACHES". Una demo de meta-visión con mirada transpersonal-sistémica para coaches con o sin certificación de cualquier nivel. “Un espacio de meta-visión es un espacio colaborativo, con mirada transpersonal-sistémica, de reflexión y análisis crítico sobre la tarea y el ser del coach, abordando también sus meta-competencias para un aprendizaje y desarrollo para el coach, el cliente y el neo-cliente.” (Cris Bolívar) &nbsp;
URL:https://www.essentialinstitute.org/tienda/_eventos/coaching/demo-sesion-meta-vision-super-vision-coaches-semana-internacional-coaching-mayo22/
LOCATION:
END:VEVENT
END:VCALENDAR
