BEGIN:VCALENDAR
VERSION:2.0
PRODID:-//Essential Institute by Cris Bolívar
CALSCALE:GREGORIAN
METHOD:PUBLISH
X-WR-CALNAME:Essential Institute by Cris Bolívar
X-ORIGINAL-URL:https://www.essentialinstitute.org/tienda/_eventos/coaching/demo-sesion-coaching-esencial-nivel-mcc-semana-internacional-coaching-mayo22-icf-colombia/
X-WR-CALDESC:DEMO SESIÓN DE COACHING ESENCIAL NIVEL MCC &#8211; Semana Internacional de Coaching mayo&#8217;22-ICF COLOMBIA
BEGIN:VEVENT
DTSTART;TZID=Europe/Helsinki:20220519T153000
DTEND;TZID=Europe/Helsinki:20220519T170000
SUMMARY:DEMO SESIÓN DE COACHING ESENCIAL NIVEL MCC – Semana Internacional de Coaching mayo’22-ICF COLOMBIA
DESCRIPTION:Dentro de la Semana Internacional de Coaching mayo'22 de la International Coaching Federation. Cris Bolívar hará una "DEMO SESIÓN DE COACHING ESENCIAL NIVEL MCC".  Una demo de sesión de coaching a nivel MCC y espacio para reflexionar y compartir aspectos clave en términos de competencias ICF y meta-competencias de la Esencialidad y el ser del coach.
URL:https://www.essentialinstitute.org/tienda/_eventos/coaching/demo-sesion-coaching-esencial-nivel-mcc-semana-internacional-coaching-mayo22-icf-colombia/
LOCATION:
END:VEVENT
END:VCALENDAR
