BEGIN:VCALENDAR
VERSION:2.0
PRODID:-//Essential Institute by Cris Bolívar
CALSCALE:GREGORIAN
METHOD:PUBLISH
X-WR-CALNAME:Essential Institute by Cris Bolívar
X-ORIGINAL-URL:https://www.essentialinstitute.org/tienda/_eventos/coaching/ponencia-la-empresa-mariposa-sabiamente-agil-emsa-la-2a-semana-internacional-coaching-ejecutivo/
X-WR-CALDESC:Ponencia «La Empresa Mariposa Sabiamente Ágil (EMSA) en la 2ª Semana Internacional Coaching Ejecutivo
BEGIN:VEVENT
DTSTART;TZID=Europe/Helsinki:20220504T020000
DTEND;TZID=Europe/Helsinki:20220504T023000
SUMMARY:Ponencia «La Empresa Mariposa Sabiamente Ágil (EMSA) en la 2ª Semana Internacional Coaching Ejecutivo
DESCRIPTION:En la segunda semana internacional del coaching ejecutivo “La empresa mariposa sabiamente ágil (EMSA)”, por Cris Bolívar. En esta ponencia se presentará el modelo, las bases filosóficas y las claves para una organización sabia, el neo-liderazgo orientado al Neo-cliente.
URL:https://www.essentialinstitute.org/tienda/_eventos/coaching/ponencia-la-empresa-mariposa-sabiamente-agil-emsa-la-2a-semana-internacional-coaching-ejecutivo/
LOCATION:
END:VEVENT
END:VCALENDAR
