BEGIN:VCALENDAR
VERSION:2.0
PRODID:-//Essential Institute by Cris Bolívar
CALSCALE:GREGORIAN
METHOD:PUBLISH
X-WR-CALNAME:Essential Institute by Cris Bolívar
X-ORIGINAL-URL:https://www.essentialinstitute.org/tienda/_eventos/coaching/i-congreso-la-red-master-coaches-mcc-icf-latinoamerica-espana-2/
X-WR-CALDESC:«EVOCA CONSCIENCIA», en el I CONGRESO «EL SER Y EL HACER» &#8211; De la Red de Máster Coaches MCC ICF de Latinoamérica y España
BEGIN:VEVENT
DTSTART;TZID=Europe/Helsinki:20220709T200000
DTEND;TZID=Europe/Helsinki:20220709T210000
SUMMARY:«EVOCA CONSCIENCIA», en el I CONGRESO «EL SER Y EL HACER» – De la Red de Máster Coaches MCC ICF de Latinoamérica y España
DESCRIPTION:I Congreso Virtual de la Red de Máster Coaches de Latinoamérica y España. "EL SER Y EL HACER" Un congreso donde conocer, explorar y vivenciar las competencias del Ser y el Hacer del coach.
URL:https://www.essentialinstitute.org/tienda/_eventos/coaching/i-congreso-la-red-master-coaches-mcc-icf-latinoamerica-espana-2/
LOCATION:
END:VEVENT
END:VCALENDAR
