BEGIN:VCALENDAR
VERSION:2.0
PRODID:-//Essential Institute by Cris Bolívar
CALSCALE:GREGORIAN
METHOD:PUBLISH
X-WR-CALNAME:Essential Institute by Cris Bolívar
X-ORIGINAL-URL:https://www.essentialinstitute.org/tienda/_eventos/programas-formativos/conferencia-the-essential-enneagram-harmonize-to-shine-eneagrama-esencial-armonizar-brillar/
X-WR-CALDESC:Conferencia “EL ENEAGRAMA ESENCIAL: ARMONIZAR PARA BRILLAR”
BEGIN:VEVENT
DTSTART;TZID=Europe/Helsinki:20230720T150000
DTEND;TZID=Europe/Helsinki:20230723T190000
SUMMARY:Conferencia “EL ENEAGRAMA ESENCIAL: ARMONIZAR PARA BRILLAR”
DESCRIPTION:Conferencia "El Eneagrama Esencial: armonizar para brillar" A lo largo de la ponencia se irá desvelando el proceso transpersonal evolutivo hacia el Ser. Se abordarán algunas de las claves del viaje de sanación y armonización, para que podamos acceder a nuestra sabiduría interna y metacompetencias desde las cuales brillar plenamente. Se explicará cada una de las tres heridas y su relación con el proceso de creación del ego y la sombra, se verá el modelo bidireccional de intervención o el Coaching Esencial como herramientas para acompañar el viaje hacia el Ser y sus metacompetencias a través del Eneagrama Esencial. La presentación, irá entretejida con ejemplos, aplicaciones y herramientas útiles tanto para el desarrollo personal como para el acompañamiento de los demás (coaching, psicoterapia...).
URL:https://www.essentialinstitute.org/tienda/_eventos/programas-formativos/conferencia-the-essential-enneagram-harmonize-to-shine-eneagrama-esencial-armonizar-brillar/
LOCATION:
END:VEVENT
END:VCALENDAR
