BEGIN:VCALENDAR
VERSION:2.0
PRODID:-//Essential Institute by Cris Bolívar
CALSCALE:GREGORIAN
METHOD:PUBLISH
X-WR-CALNAME:Essential Institute by Cris Bolívar
X-ORIGINAL-URL:https://www.essentialinstitute.org/tienda/ticket/dialogos-omsa-tienen-ver-los-desafios-las-empresas-la-sabiduria/
X-WR-CALDESC:DIÁLOGOS OMSA &#8211; «¿QUÉ TIENEN QUE VER LOS DESAFÍOS DE LAS EMPRESAS CON LA SABIDURÍA? «
BEGIN:VEVENT
DTSTART;TZID=Europe/Helsinki:20230327T210000
DTEND;TZID=Europe/Helsinki:20230327T213000
SUMMARY:DIÁLOGOS OMSA – «¿QUÉ TIENEN QUE VER LOS DESAFÍOS DE LAS EMPRESAS CON LA SABIDURÍA? «
DESCRIPTION:"PRESENCIA, AIÓN Y LIDERAZGO CONSCIENTE Y SABIO" ¿Por qué es importante un liderazgo consciente? ¿Qué es ser un líder consciente y sabio? ¿Qué significa estar en presencia? Dentro del ciclo de DIÁLOGOS OMSA Charlas interactivas, frescas e íntimas que generan reflexión, debate y sabiduría, para la co-creación de las Organizaciones Mariposa Sabiamente Ágiles (OMSA). Organizadas por la red de la Constelación de Estrellas Polares OMSA.
URL:https://www.essentialinstitute.org/tienda/ticket/dialogos-omsa-tienen-ver-los-desafios-las-empresas-la-sabiduria/
LOCATION:
END:VEVENT
END:VCALENDAR
