BEGIN:VCALENDAR
VERSION:2.0
PRODID:-//Essential Institute by Cris Bolívar
CALSCALE:GREGORIAN
METHOD:PUBLISH
X-WR-CALNAME:Essential Institute by Cris Bolívar
X-ORIGINAL-URL:https://www.essentialinstitute.org/tienda/_eventos/thubten-sherab-ling/retiro-meditacion-mas-alla-del-mindfulness/
X-WR-CALDESC:RETIRO DE MEDITACIÓN «MÁS ALLÁ DEL MINDFULNESS»
BEGIN:VEVENT
DTSTART;TZID=Europe/Helsinki:20230708T100000
DTEND;TZID=Europe/Helsinki:20230708T200000
SUMMARY:RETIRO DE MEDITACIÓN «MÁS ALLÁ DEL MINDFULNESS»
DESCRIPTION:Retiro de MEDITACIÓN en el espacio de Collserola (Barcelona) de Essential Institute. Un día para regalarte y disfrutar del silencio, la meditación, los mantras, con reflexiones e inspiración de la filosofía y la psicología budista que facilitaran una experiencia profunda y significativa en el viaje hacia el ser esencial y la sabiduría. Dirigido por el Maestro Acharya Ricard Rotllan. Presencial y online.
URL:https://www.essentialinstitute.org/tienda/_eventos/thubten-sherab-ling/retiro-meditacion-mas-alla-del-mindfulness/
LOCATION:Carrer Ceràmica, 39, 08035 Barcelona, España
END:VEVENT
END:VCALENDAR
