BEGIN:VCALENDAR
VERSION:2.0
PRODID:-//Essential Institute by Cris Bolívar
CALSCALE:GREGORIAN
METHOD:PUBLISH
X-WR-CALNAME:Essential Institute by Cris Bolívar
X-ORIGINAL-URL:https://www.essentialinstitute.org/tienda/ticket/dialogos-omsa-equipos-desalmados-equipos-alma/
X-WR-CALDESC:DIÁLOGOS OMSA &#8211; “¿EQUIPOS DESALMADOS O EQUIPOS CON ALMA?”
BEGIN:VEVENT
DTSTART;TZID=Europe/Helsinki:20230425T210000
DTEND;TZID=Europe/Helsinki:20230425T213000
SUMMARY:DIÁLOGOS OMSA – “¿EQUIPOS DESALMADOS O EQUIPOS CON ALMA?”
DESCRIPTION:“¿EQUIPOS DESALMADOS O EQUIPOS CON ALMA?” ¿A qué llamamos equipos con alma? ¿Más allá de un equipo de alto rendimiento? ¿Cómo facilitar equipos con alma? &nbsp; Dentro del ciclo de DIÁLOGOS OMSA Charlas interactivas, frescas e íntimas que generan reflexión, debate y sabiduría, para la co-creación de las Organizaciones Mariposa Sabiamente Ágiles (OMSA). Organizadas por la red de la Constelación de Estrellas Polares OMSA.
URL:https://www.essentialinstitute.org/tienda/ticket/dialogos-omsa-equipos-desalmados-equipos-alma/
LOCATION:
END:VEVENT
END:VCALENDAR
