BEGIN:VCALENDAR
VERSION:2.0
PRODID:-//Essential Institute by Cris Bolívar
CALSCALE:GREGORIAN
METHOD:PUBLISH
X-WR-CALNAME:Essential Institute by Cris Bolívar
X-ORIGINAL-URL:https://www.essentialinstitute.org/tienda/_eventos/thubten-sherab-ling/cineforum-al-aire-libre-essential-institute-her-presencial-aula-virtual/
X-WR-CALDESC:CineFórum al Aire Libre en Essential Institute «HER» &#8211; Presencial y Aula Virtual
BEGIN:VEVENT
DTSTART;TZID=Europe/Helsinki:20230722T200000
DTEND;TZID=Europe/Helsinki:20230722T000000
SUMMARY:CineFórum al Aire Libre en Essential Institute «HER» – Presencial y Aula Virtual
DESCRIPTION:Vuelve el CineForum al Aire Libre en Essential Institute, con el film "HER", con coloquio sobre la película donde reflexionaremos sobre la el momento actual y la Inteligencia Artificial... y cómo aplicar sus enseñanzas a nuestra vida para acompañarnos en nuestro camino hacia la sabiduría interior. ES NECESARIO INDICAR EN LA RESERVA DE PLAZA SI TU ASISTENCIA SERÁ PRESENCIAL O POR AULA VIRTUAL
URL:https://www.essentialinstitute.org/tienda/_eventos/thubten-sherab-ling/cineforum-al-aire-libre-essential-institute-her-presencial-aula-virtual/
LOCATION:Carrer Ceràmica, 39, 08035 Barcelona, España
END:VEVENT
END:VCALENDAR
