BEGIN:VCALENDAR
VERSION:2.0
PRODID:-//Essential Institute by Cris Bolívar
CALSCALE:GREGORIAN
METHOD:PUBLISH
X-WR-CALNAME:Essential Institute by Cris Bolívar
X-ORIGINAL-URL:https://www.essentialinstitute.org/tienda/_eventos/coaching/valor-la-supervision-coaching-mentoring-emcc-spain/
X-WR-CALDESC:«EL VALOR DE LA SUPERVISIÓN EN COACHING Y MENTORING» &#8211; EMCC Spain
BEGIN:VEVENT
DTSTART;TZID=Europe/Helsinki:20230914T180000
DTEND;TZID=Europe/Helsinki:20230914T190000
SUMMARY:«EL VALOR DE LA SUPERVISIÓN EN COACHING Y MENTORING» – EMCC Spain
DESCRIPTION:En este webinar el grupo de supervisión de EMCC Spain nos invita a conocer, contextualizar y profundizar en el valor de la supervisión como herramienta para llevar tu práctica como coach o mentor a un nivel superior.
URL:https://www.essentialinstitute.org/tienda/_eventos/coaching/valor-la-supervision-coaching-mentoring-emcc-spain/
LOCATION:
END:VEVENT
END:VCALENDAR
