BEGIN:VCALENDAR
VERSION:2.0
PRODID:-//Essential Institute by Cris Bolívar
CALSCALE:GREGORIAN
METHOD:PUBLISH
X-WR-CALNAME:Essential Institute by Cris Bolívar
X-ORIGINAL-URL:https://www.essentialinstitute.org/tienda/_eventos/coaching/charla-gratuita-esencial-viaje-transmutacion-evolutiva-hacia-la-sabiduria-la-plenitud-presentacion-del-programa-aula-virtual-2/
X-WR-CALDESC:Charla gratuita «El SER ESENCIAL: Un viaje de transmutación evolutiva hacia la sabiduría y la plenitud» y presentación del programa &#8211; Aula virtual
BEGIN:VEVENT
DTSTART;TZID=Europe/Helsinki:20230922T200000
DTEND;TZID=Europe/Helsinki:20230922T210000
SUMMARY:Charla gratuita «El SER ESENCIAL: Un viaje de transmutación evolutiva hacia la sabiduría y la plenitud» y presentación del programa – Aula virtual
DESCRIPTION:En esta charla exploraremos... Cómo es el viaje de profundo aprendizaje significativo hacia tu ser en plenitud que nos llevan a ir más allá del ego ¿Cómo es el programa El Ser Esencial?, sus fases. ¿Qué aporta a nivel personal y profesional hacer el programa? ... Un programa DIRIGIDO A Para todos aquellos quienes desean desarrollar el potencial de su propio Ser y vivir con más plenitud, armonía y sabiduría. Coaches, supervisores y otros profesionales que quieran adquirir conocimientos y potentes herramientas de transformación evolutiva. Coaches que quieran desarrollar no sólo las competencias de la ICF si no también las metacompetencias del Ser coach.
URL:https://www.essentialinstitute.org/tienda/_eventos/coaching/charla-gratuita-esencial-viaje-transmutacion-evolutiva-hacia-la-sabiduria-la-plenitud-presentacion-del-programa-aula-virtual-2/
LOCATION:
END:VEVENT
END:VCALENDAR
