BEGIN:VCALENDAR
VERSION:2.0
PRODID:-//Essential Institute by Cris Bolívar
CALSCALE:GREGORIAN
METHOD:PUBLISH
X-WR-CALNAME:Essential Institute by Cris Bolívar
X-ORIGINAL-URL:https://www.essentialinstitute.org/tienda/_eventos/coaching/conferencia-the-power-of-the-essentials-enneagram-coaching-connection-for-the-development-of-the-potential-icf-bulgaria/
X-WR-CALDESC:Conferencia «THE POWER OF THE ESSENTIALS ENNEAGRAM + COACHING CONNECTION FOR THE DEVELOPMENT OF THE POTENTIAL» &#8211; ICF Bulgaria
BEGIN:VEVENT
DTSTART;TZID=Europe/Helsinki:20231026T210000
DTEND;TZID=Europe/Helsinki:20231026T200000
SUMMARY:Conferencia «THE POWER OF THE ESSENTIALS ENNEAGRAM + COACHING CONNECTION FOR THE DEVELOPMENT OF THE POTENTIAL» – ICF Bulgaria
DESCRIPTION:Dentro del Congreso de la ICF Bulgaria para celebrar el 25 aniversario de la International Coaching Federation. Cris Bolívar, impartirá la conferencia "THE POWER OF THE ESSENTIALS ENNEAGRAM + COACHING CONNECTION FOR THE DEVELOPMENT OF THE POTENTIAL" para la ICF Bulgaria en Sofía.
URL:https://www.essentialinstitute.org/tienda/_eventos/coaching/conferencia-the-power-of-the-essentials-enneagram-coaching-connection-for-the-development-of-the-potential-icf-bulgaria/
LOCATION:
END:VEVENT
END:VCALENDAR
