BEGIN:VCALENDAR
VERSION:2.0
PRODID:-//Essential Institute by Cris Bolívar
CALSCALE:GREGORIAN
METHOD:PUBLISH
X-WR-CALNAME:Essential Institute by Cris Bolívar
X-ORIGINAL-URL:https://www.essentialinstitute.org/tienda/_eventos/coaching/conferencia-viaje-la-sabiduria-del-esencial-colegio-oficial-psicologia-las-palmas/
X-WR-CALDESC:Conferencia «EL VIAJE A LA SABIDURÍA DEL SER ESENCIAL” &#8211; Colegio Oficial Psicología Las Palmas
BEGIN:VEVENT
DTSTART;TZID=Europe/Helsinki:20240123T193000
DTEND;TZID=Europe/Helsinki:20240123T210000
SUMMARY:Conferencia «EL VIAJE A LA SABIDURÍA DEL SER ESENCIAL” – Colegio Oficial Psicología Las Palmas
DESCRIPTION:En este taller exploraremos y viviremos, la potencia de los cuentos como vehículos para el autoconocimiento de lo más profundo e inconsciente en nosotros y nuestras relaciones. Lo haremos mediante reflexiones, diálogo y ejercicios, donde experienciaremos a través de los cuentos quiénes somos y cómo nos relacionamos. Asimismo ampliando nuestra creatividad y mirada sistémica.
URL:https://www.essentialinstitute.org/tienda/_eventos/coaching/conferencia-viaje-la-sabiduria-del-esencial-colegio-oficial-psicologia-las-palmas/
LOCATION:
END:VEVENT
END:VCALENDAR
