BEGIN:VCALENDAR
VERSION:2.0
PRODID:-//Essential Institute by Cris Bolívar
CALSCALE:GREGORIAN
METHOD:PUBLISH
X-WR-CALNAME:Essential Institute by Cris Bolívar
X-ORIGINAL-URL:https://www.essentialinstitute.org/tienda/_eventos/coaching/taller-gratuito-las-heridas-de-muerte-vida-y-amor-como-sanarlas-para-vivir-en-plenitud-festival-vibra-feria-barcelona/
X-WR-CALDESC:Taller gratuito “LAS HERIDAS DE MUERTE, VIDA Y AMOR: CÓMO SANARLAS PARA VIVIR EN PLENITUD” &#8211; Festival VIBRA, Feria Barcelona
BEGIN:VEVENT
DTSTART;TZID=Europe/Helsinki:20240322T191500
DTEND;TZID=Europe/Helsinki:20240322T194500
SUMMARY:Taller gratuito “LAS HERIDAS DE MUERTE, VIDA Y AMOR: CÓMO SANARLAS PARA VIVIR EN PLENITUD” – Festival VIBRA, Feria Barcelona
DESCRIPTION:Taller “Las heridas de Muerte, Vida y Amor: Cómo sanarlas para vivir en plenitud.” Por Cris Bolívar La herida es el maravilloso vacío, el receptáculo donde aparece el Ser. Todos tenemos una y nuestro viaje a la plenitud y la sabiduría consiste en sanarla para desempoderar al ego y empoderar al Ser. En este espacio conoceremos que son, claves para hacerlo y para acompañar a otros en su proceso de sanación y reconexión con el Ser Esencial desde el Amor.
URL:https://www.essentialinstitute.org/tienda/_eventos/coaching/taller-gratuito-las-heridas-de-muerte-vida-y-amor-como-sanarlas-para-vivir-en-plenitud-festival-vibra-feria-barcelona/
LOCATION:
END:VEVENT
END:VCALENDAR
