BEGIN:VCALENDAR
VERSION:2.0
PRODID:-//Essential Institute by Cris Bolívar
CALSCALE:GREGORIAN
METHOD:PUBLISH
X-WR-CALNAME:Essential Institute by Cris Bolívar
X-ORIGINAL-URL:https://www.essentialinstitute.org/tienda/_eventos/thubten-sherab-ling/taller-gratuito-la-maestria-de-la-meditacion-festival-vibra-feria-barcelona/
X-WR-CALDESC:Taller gratuito “LA MAESTRÍA DE LA MEDITACIÓN” &#8211; Festival VIBRA, Feria Barcelona
BEGIN:VEVENT
DTSTART;TZID=Europe/Helsinki:20240323T160000
DTEND;TZID=Europe/Helsinki:20240323T164500
SUMMARY:Taller gratuito “LA MAESTRÍA DE LA MEDITACIÓN” – Festival VIBRA, Feria Barcelona
DESCRIPTION:“La maestría de la meditación” Por Ricard Rotllan La meditación es un método milenario para obtener resultados extraordinarios de paz y sabiduría. En este espacio descubriremos y practicaremos algunas de las técnicas tántricas usadas por los Grandes Maestros.
URL:https://www.essentialinstitute.org/tienda/_eventos/thubten-sherab-ling/taller-gratuito-la-maestria-de-la-meditacion-festival-vibra-feria-barcelona/
LOCATION:
END:VEVENT
END:VCALENDAR
