BEGIN:VCALENDAR
VERSION:2.0
PRODID:-//Essential Institute by Cris Bolívar
CALSCALE:GREGORIAN
METHOD:PUBLISH
X-WR-CALNAME:Essential Institute by Cris Bolívar
X-ORIGINAL-URL:https://www.essentialinstitute.org/?post_type=product&p=41423
X-WR-CALDESC:Taller «GENERACIÓN DE EQUIPOS DE ALTO DESEMPEÑO A TRAVÉS DEL ENEAGRAMA ESENCIAL»
BEGIN:VEVENT
DTSTART;TZID=Europe/Helsinki:20240604T180000
DTEND;TZID=Europe/Helsinki:20240604T210000
SUMMARY:Taller «GENERACIÓN DE EQUIPOS DE ALTO DESEMPEÑO A TRAVÉS DEL ENEAGRAMA ESENCIAL»
DESCRIPTION:VER MÁS ABAJO, EN LA "Descripción", EL DETALLE DE TODA LA INFORMACIÓN "GENERACIÓN DE EQUIPOS DE ALTO DESEMPEÑO A TRAVÉS DEL ENEAGRAMA ESENCIAL" Por Cris Bolívar Más allá de las etiquetas, egotipos y estereotipos, este taller facilita conocer, incluir y armonizar todas las posibilidades de ser que somos para la generación de equipos de alto desempeño, equipos donde se está en contacto con el talento y el alma del equipo. Con test relacional de Eneagrama.
URL:https://www.essentialinstitute.org/?post_type=product&p=41423
LOCATION:
END:VEVENT
END:VCALENDAR
