BEGIN:VCALENDAR
VERSION:2.0
PRODID:-//Essential Institute by Cris Bolívar
CALSCALE:GREGORIAN
METHOD:PUBLISH
X-WR-CALNAME:Essential Institute by Cris Bolívar
X-ORIGINAL-URL:https://www.essentialinstitute.org/tienda/_eventos/coaching/conferencia-conecta-con-tu-sabiduria-interior-a-traves-del-eneagrama-esencial/
X-WR-CALDESC:Conferencia «CONECTA CON TU SABIDURÍA INTERIOR A TRAVÉS DEL ENEAGRAMA ESENCIAL»
BEGIN:VEVENT
DTSTART;TZID=Europe/Helsinki:20240509T100000
DTEND;TZID=Europe/Helsinki:20240509T190000
SUMMARY:Conferencia «CONECTA CON TU SABIDURÍA INTERIOR A TRAVÉS DEL ENEAGRAMA ESENCIAL»
DESCRIPTION:El Eneagrama es un completo y complejo mapa del Ser que nos muestra el viaje hacia nuestro potencial. Con un enfoque transpersonal filosófico-psico-espiritual y sistémico, el Eneagrama Esencial tiene como metafoco la sabiduría para una vida en completitud, armonía y sentido.
URL:https://www.essentialinstitute.org/tienda/_eventos/coaching/conferencia-conecta-con-tu-sabiduria-interior-a-traves-del-eneagrama-esencial/
LOCATION:
END:VEVENT
END:VCALENDAR
