BEGIN:VCALENDAR
VERSION:2.0
PRODID:-//Essential Institute by Cris Bolívar
CALSCALE:GREGORIAN
METHOD:PUBLISH
X-WR-CALNAME:Essential Institute by Cris Bolívar
X-ORIGINAL-URL:https://www.essentialinstitute.org/tienda/_eventos/thubten-sherab-ling/cineforum-al-aire-libre-en-essential-institute-presencial/
X-WR-CALDESC:CineFórum al Aire Libre en Essential Institute &#8211; Presencial
BEGIN:VEVENT
DTSTART;TZID=Europe/Helsinki:20240914T210000
DTEND;TZID=Europe/Helsinki:20240914T000000
SUMMARY:CineFórum al Aire Libre en Essential Institute – Presencial
DESCRIPTION:Vuelve el CineForum al Aire Libre en Essential Institute. Tras la película abriremos un coloquio donde reflexionaremos sobre sus personajes y cómo aplicar todo ello a nuestra vida para acompañarnos en nuestro camino hacia la completitud y la sabiduría interior.
URL:https://www.essentialinstitute.org/tienda/_eventos/thubten-sherab-ling/cineforum-al-aire-libre-en-essential-institute-presencial/
LOCATION:Carrer Ceràmica, 39, 08035 Barcelona, España
END:VEVENT
END:VCALENDAR
