BEGIN:VCALENDAR
VERSION:2.0
PRODID:-//Essential Institute by Cris Bolívar
CALSCALE:GREGORIAN
METHOD:PUBLISH
X-WR-CALNAME:Essential Institute by Cris Bolívar
X-ORIGINAL-URL:https://www.essentialinstitute.org/tienda/_eventos/coaching/1er-congreso-espiritual-europeo-barcelona24-twu/
X-WR-CALDESC:1er CONGRESO ESPIRITUAL EUROPEO &#8211; BARCELONA&#8217;24 &#8211; TWU
BEGIN:VEVENT
DTSTART;TZID=Europe/Helsinki:20241005T090000
DTEND;TZID=Europe/Helsinki:20241005T180000
SUMMARY:1er CONGRESO ESPIRITUAL EUROPEO – BARCELONA’24 – TWU
DESCRIPTION:¿Quieres ser parte de un movimiento para propiciar una transformación real? Este es el Primer Congreso Espiritual que tiene como propósito incidir en las distintas áreas de manera holística para una espiritualidad real, completa y práctica, comprometida con la transformación real. Ven al Congreso Espiritual, inspírate con las ponencias, debate con las mesas redondas, comparte, celebra y continua cocreando en el POST EVENTO con personas de todo el mundo que comparten tu misma misión.
URL:https://www.essentialinstitute.org/tienda/_eventos/coaching/1er-congreso-espiritual-europeo-barcelona24-twu/
LOCATION:
END:VEVENT
END:VCALENDAR
