BEGIN:VCALENDAR
VERSION:2.0
PRODID:-//Essential Institute by Cris Bolívar
CALSCALE:GREGORIAN
METHOD:PUBLISH
X-WR-CALNAME:Essential Institute by Cris Bolívar
X-ORIGINAL-URL:https://www.essentialinstitute.org/tienda/_eventos/coaching/ponencia-coaching-y-psicologia-sinergias-tendencias-y-situacion-actual/
X-WR-CALDESC:Ponencia «COACHING Y PSICOLOGÍA: SINERGIAS, TENDENCIAS Y SITUACIÓN ACTUAL»
BEGIN:VEVENT
DTSTART;TZID=Europe/Helsinki:20241114T130000
DTEND;TZID=Europe/Helsinki:20241114T140000
SUMMARY:Ponencia «COACHING Y PSICOLOGÍA: SINERGIAS, TENDENCIAS Y SITUACIÓN ACTUAL»
DESCRIPTION:Cris Bolívar, Coach MCC, Psicóloga y Filósofa, miembro del comité de Psicología Coaching del Colegio de Psicólogos y de la International Society of Coaching Psychology, mentora, supervisora y exvicepresidenta de la ICF España. En esta conferencia planteará distinciones, contenidos y ejemplos sobre la sinergia entre el coaching y la psicología, y se explorarán novedades y tendencias que inciden directamente en el futuro del coaching. Se ahondará acerca del beneficio de esta sinergia sobre las competencias ICF y sobre nuestros clientes y se irá más allá explorando cómo incide en las metacompetencias del ser del coach. Todo ello de forma interactiva, con reflexiones, debates y grupos de trabajo donde los participantes podrán intercambiar reflexiones, experiencias y conocimientos.
URL:https://www.essentialinstitute.org/tienda/_eventos/coaching/ponencia-coaching-y-psicologia-sinergias-tendencias-y-situacion-actual/
LOCATION:
END:VEVENT
END:VCALENDAR
