BEGIN:VCALENDAR
VERSION:2.0
PRODID:-//Essential Institute by Cris Bolívar
CALSCALE:GREGORIAN
METHOD:PUBLISH
X-WR-CALNAME:Essential Institute by Cris Bolívar
X-ORIGINAL-URL:https://www.essentialinstitute.org/tienda/_eventos/coaching/webinar-interactiva-tu-caso-a-supervision/
X-WR-CALDESC:Webinar interactiva «Tu caso a supervisión»
BEGIN:VEVENT
DTSTART;TZID=Europe/Helsinki:20241212T180000
DTEND;TZID=Europe/Helsinki:20241212T190000
SUMMARY:Webinar interactiva «Tu caso a supervisión»
DESCRIPTION:¿Qué preguntas, vinculadas a ese caso especial de coaching, quisieras que te hicieran? Entre todos reflexionaremos y cocrearemos preguntas potentes de supervisión que puedan ayudarnos a tener una visión ampliada de la situación y abordar con éxito tu caso. Ponentes: Cris Bolívar, Rosa Cañamero, Virginia González-Vélez, Mónica Iovane, Alfonso Muñoz-Cobo, Isabel Vallejo.
URL:https://www.essentialinstitute.org/tienda/_eventos/coaching/webinar-interactiva-tu-caso-a-supervision/
LOCATION:
END:VEVENT
END:VCALENDAR
