BEGIN:VCALENDAR
VERSION:2.0
PRODID:-//Essential Institute by Cris Bolívar
CALSCALE:GREGORIAN
METHOD:PUBLISH
X-WR-CALNAME:Essential Institute by Cris Bolívar
X-ORIGINAL-URL:https://www.essentialinstitute.org/tienda/_eventos/coaching/charla-gratuita-distinciones-del-coaching-esencial-y-presentacion-del-programa-integral-de-formacion-en-coaching-esencial-niveles-12-y-3-aula-virtual-3/
X-WR-CALDESC:Charla GRATUITA «DISTINCIONES DEL COACHING ESENCIAL” y PRESENTACIÓN DEL PROGRAMA INTEGRAL DE FORMACIÓN EN COACHING ESENCIAL – NIVELES 1+2 Y 3 – Aula virtual
BEGIN:VEVENT
DTSTART;TZID=Europe/Helsinki:20250129T140000
DTEND;TZID=Europe/Helsinki:20250129T150000
SUMMARY:Charla GRATUITA «DISTINCIONES DEL COACHING ESENCIAL” y PRESENTACIÓN DEL PROGRAMA INTEGRAL DE FORMACIÓN EN COACHING ESENCIAL – NIVELES 1+2 Y 3 – Aula virtual
DESCRIPTION:El Coaching Esencial es un coaching transpersonal filosófico-psico-espiritual y sistémico con metafoco en la sabiduría. En esta charla descubriremos algunas distinciones del Coaching Esencial que lo hacen un coaching profundo, riguroso,  y preparan al coach para acompañar procesos de transformación evolutiva más allá del ego, hacia la plenitud y la sabiduría del cliente. Y presentaremos la formación en Coaching Esencial. ¿Qué representa formarse en el Programa Integral de Formación en Coaching Esencial? Los niveles 1, 2 y 3 ¿Cómo elegir el nivel y modalidad más adecuada? ¿Y si no quiero certificarme profesionalmente? …
URL:https://www.essentialinstitute.org/tienda/_eventos/coaching/charla-gratuita-distinciones-del-coaching-esencial-y-presentacion-del-programa-integral-de-formacion-en-coaching-esencial-niveles-12-y-3-aula-virtual-3/
LOCATION:
END:VEVENT
END:VCALENDAR
