BEGIN:VCALENDAR
VERSION:2.0
PRODID:-//Essential Institute by Cris Bolívar
CALSCALE:GREGORIAN
METHOD:PUBLISH
X-WR-CALNAME:Essential Institute by Cris Bolívar
X-ORIGINAL-URL:https://www.essentialinstitute.org/tienda/_eventos/configuraciones-sistemicas-eneagramaticas-es-es/constelacion-eneagramatica-csee-4/
X-WR-CALDESC:Constelación Eneagramática (CSEE)
BEGIN:VEVENT
DTSTART;TZID=Europe/Helsinki:20250222T110000
DTEND;TZID=Europe/Helsinki:20250222T140000
SUMMARY:Constelación Eneagramática (CSEE)
DESCRIPTION:VER MÁS ABAJO, EN LA "Descripción", EL DETALLE DE TODA LA INFORMACIÓN Ven a vivir una experiencia profunda, significativa y reveladora. Constelación Sistémica Estructural Eneagramática (CSEE). La sinergia e integración entre CONSTELACIÓN SISTÉMICA + TRANSGENERACIONAL + ENEAGRAMA ESENCIAL + COACHING ESENCIAL
URL:https://www.essentialinstitute.org/tienda/_eventos/configuraciones-sistemicas-eneagramaticas-es-es/constelacion-eneagramatica-csee-4/
LOCATION:
END:VEVENT
END:VCALENDAR
