BEGIN:VCALENDAR
VERSION:2.0
PRODID:-//Essential Institute by Cris Bolívar
CALSCALE:GREGORIAN
METHOD:PUBLISH
X-WR-CALNAME:Essential Institute by Cris Bolívar
X-ORIGINAL-URL:https://www.essentialinstitute.org/tienda/_eventos/coaching/ponencia-la-psicologia-coaching-una-propuesta-emergente-para-la-red-de-master-coaches-latam-y-espana/
X-WR-CALDESC:Ponencia «La Psicología Coaching, una propuesta emergente», para la Red de Master Coaches Latam y España
BEGIN:VEVENT
DTSTART;TZID=Europe/Helsinki:20250717T210000
DTEND;TZID=Europe/Helsinki:20250717T220000
SUMMARY:Ponencia «La Psicología Coaching, una propuesta emergente», para la Red de Master Coaches Latam y España
DESCRIPTION:Alicia Agüero, Cris Bolívar, Elena Espinal y Tani Sturich, impartirán la ponencia "Arte literario"  como un camino hacia la plena aceptación del ser-en-el-mundo en Coaching. Arte como lo sublime; lo sublime como la esencia última del arte: el amor incondicional. Se aportarán herramientas del arte a través de la palabra, para que aplicadas a los procesos de Coaching faciliten que el cliente conecte con la energía del Amor y la libertad para ser, para recrearse como propia obra de arte. Autoras del capítulo "Arte Literario en Coaching" en el libro "La creatividad en el coaching", ed Granica.
URL:https://www.essentialinstitute.org/tienda/_eventos/coaching/ponencia-la-psicologia-coaching-una-propuesta-emergente-para-la-red-de-master-coaches-latam-y-espana/
LOCATION:
END:VEVENT
END:VCALENDAR
