BEGIN:VCALENDAR
VERSION:2.0
PRODID:-//Essential Institute by Cris Bolívar
CALSCALE:GREGORIAN
METHOD:PUBLISH
X-WR-CALNAME:Essential Institute by Cris Bolívar
X-ORIGINAL-URL:https://www.essentialinstitute.org/tienda/_eventos/coaching/ponencia-reconecta-con-tu-ser-y-descubre-tus-metacompetencias-con-el-eneagrama-esencial-para-iea-global-conference25-minneapolis/
X-WR-CALDESC:Ponencia «Reconecta con tu Ser y descubre tus Metacompetencias con el Eneagrama Esencial», para IEA Global &#8211; Conference&#8217;25 Minneapolis
BEGIN:VEVENT
DTSTART;TZID=Europe/Helsinki:20250611T220000
DTEND;TZID=Europe/Helsinki:20250611T233000
SUMMARY:Ponencia «Reconecta con tu Ser y descubre tus Metacompetencias con el Eneagrama Esencial», para IEA Global – Conference’25 Minneapolis
DESCRIPTION:
URL:https://www.essentialinstitute.org/tienda/_eventos/coaching/ponencia-reconecta-con-tu-ser-y-descubre-tus-metacompetencias-con-el-eneagrama-esencial-para-iea-global-conference25-minneapolis/
LOCATION:
END:VEVENT
END:VCALENDAR
