BEGIN:VCALENDAR
VERSION:2.0
PRODID:-//Essential Institute by Cris Bolívar
CALSCALE:GREGORIAN
METHOD:PUBLISH
X-WR-CALNAME:Essential Institute by Cris Bolívar
X-ORIGINAL-URL:https://www.essentialinstitute.org/tienda/_eventos/conferencias/charla-trascendiendo-la-dualidad-leyes-del-1-y-3-metacompetencias-e-ideas-santas-para-iea-espana/
X-WR-CALDESC:Charla gratuita y en abierto “Trascendiendo la dualidad: leyes del 1 y 3, metacompetencias e ideas santas” para IEA España
BEGIN:VEVENT
DTSTART;TZID=Europe/Helsinki:20250115T190000
DTEND;TZID=Europe/Helsinki:20250115T200000
SUMMARY:Charla gratuita y en abierto “Trascendiendo la dualidad: leyes del 1 y 3, metacompetencias e ideas santas” para IEA España
DESCRIPTION:En el espacio Ágora de la Asociación Internacional de Eneagrama - España En este espacio estaré impartiendo la charla “Trascendiendo la dualidad: leyes del 1 y 3, metacompetencias e ideas santas”, donde conoceremos la mirada espiritual en Eneagrama, exploraremos qué provoca la dualidad y cómo trascenderla a través del significado de la ley del 1 y del 3, para hacer un viaje hacia las ideas santas, las metacompetencias y la completitud. &nbsp;
URL:https://www.essentialinstitute.org/tienda/_eventos/conferencias/charla-trascendiendo-la-dualidad-leyes-del-1-y-3-metacompetencias-e-ideas-santas-para-iea-espana/
LOCATION:
END:VEVENT
END:VCALENDAR
