BEGIN:VCALENDAR
VERSION:2.0
PRODID:-//Essential Institute by Cris Bolívar
CALSCALE:GREGORIAN
METHOD:PUBLISH
X-WR-CALNAME:Essential Institute by Cris Bolívar
X-ORIGINAL-URL:https://www.essentialinstitute.org/tienda/_eventos/coaching/taller-como-integrar-la-polaridad-herramientas-de-life-coaching-colegio-oficial-psicologia-cataluna/
X-WR-CALDESC:Taller «CÓMO INTEGRAR LA POLARIDAD» (Herramientas de life coaching») &#8211; Colegio Oficial Psicología Cataluña
BEGIN:VEVENT
DTSTART;TZID=Europe/Helsinki:20250611T183000
DTEND;TZID=Europe/Helsinki:20250611T203000
SUMMARY:Taller «CÓMO INTEGRAR LA POLARIDAD» (Herramientas de life coaching») – Colegio Oficial Psicología Cataluña
DESCRIPTION:Entendemos como polaridad el concepto de energías opuestas y en tensión, donde una es permitida o aceptada y la otra negada o rechazada. En este taller nos enfocaremos en cómo podemos facilitar trascender la polaridad integrándola de forma que el Ser se armoniza y las decisiones son más libres, sabias y conscientes. Presentaremos la técnica descrita en el documento “Recull d’eines de life coaching” y aportaremos enfoques para trabajar la polaridad desde distintos marcos teóricos. Haremos un ejercicio práctico con una herramienta, para la propia integración de una de nuestras polaridades y veremos cómo aplicarla con los clientes.
URL:https://www.essentialinstitute.org/tienda/_eventos/coaching/taller-como-integrar-la-polaridad-herramientas-de-life-coaching-colegio-oficial-psicologia-cataluna/
LOCATION:
END:VEVENT
END:VCALENDAR
