BEGIN:VCALENDAR
VERSION:2.0
PRODID:-//Essential Institute by Cris Bolívar
CALSCALE:GREGORIAN
METHOD:PUBLISH
X-WR-CALNAME:Essential Institute by Cris Bolívar
X-ORIGINAL-URL:https://www.essentialinstitute.org/tienda/_eventos/coaching/ponencia-el-octavo-ojo-la-mirada-transpersonal-en-supervision-para-la-red-de-supervisores-de-coaching-latam-y-espana/
X-WR-CALDESC:II Conferencia Virtual de Supervisión de Coaching &#8211; RSC
BEGIN:VEVENT
DTSTART;TZID=Europe/Helsinki:20250403T210000
DTEND;TZID=Europe/Helsinki:20250403T220000
SUMMARY:II Conferencia Virtual de Supervisión de Coaching – RSC
DESCRIPTION:
URL:https://www.essentialinstitute.org/tienda/_eventos/coaching/ponencia-el-octavo-ojo-la-mirada-transpersonal-en-supervision-para-la-red-de-supervisores-de-coaching-latam-y-espana/
LOCATION:
END:VEVENT
END:VCALENDAR
