BEGIN:VCALENDAR
VERSION:2.0
PRODID:-//Essential Institute by Cris Bolívar
CALSCALE:GREGORIAN
METHOD:PUBLISH
X-WR-CALNAME:Essential Institute by Cris Bolívar
X-ORIGINAL-URL:https://www.essentialinstitute.org/tienda/_eventos/coaching/conferencia-la-mirada-transpersonal-en-coaching-del-ego-al-ser-para-icf-espana/
X-WR-CALDESC:Conferencia “La mirada transpersonal en Coaching: del Ego al Ser», para ICF España
BEGIN:VEVENT
DTSTART;TZID=Europe/Helsinki:20250314T130000
DTEND;TZID=Europe/Helsinki:20250314T140000
SUMMARY:Conferencia “La mirada transpersonal en Coaching: del Ego al Ser», para ICF España
DESCRIPTION:
URL:https://www.essentialinstitute.org/tienda/_eventos/coaching/conferencia-la-mirada-transpersonal-en-coaching-del-ego-al-ser-para-icf-espana/
LOCATION:
END:VEVENT
END:VCALENDAR
