BEGIN:VCALENDAR
VERSION:2.0
PRODID:-//Essential Institute by Cris Bolívar
CALSCALE:GREGORIAN
METHOD:PUBLISH
X-WR-CALNAME:Essential Institute by Cris Bolívar
X-ORIGINAL-URL:https://www.essentialinstitute.org/tienda/_eventos/programas-formativos/programa-integral-de-formacion-en-coaching-esencial-nivel-12-ed-semin-intensivo-sabados-marzo25-2/
X-WR-CALDESC:Programa Integral de Formación en Coaching Esencial &#8211; Nivel 1+2 &#8211; Ed. SEMIN-INTENSIVO &#8211; Sábados &#8211; MARZO&#8217;25
BEGIN:VEVENT
DTSTART;TZID=Europe/Helsinki:20250322T110000
DTEND;TZID=Europe/Helsinki:20250322T210000
SUMMARY:Programa Integral de Formación en Coaching Esencial – Nivel 1+2 – Ed. SEMIN-INTENSIVO – Sábados – MARZO’25
DESCRIPTION:El importe de 500 eur se corresponde con la reserva de plaza. VER MÁS ABAJO, EN LA «Descripción», EL DETALLE DE TODA LA INFORMACIÓN y ACCESO AL PDF descargable donde encontrarás el calendario, modalidades, temario, importes...
URL:https://www.essentialinstitute.org/tienda/_eventos/programas-formativos/programa-integral-de-formacion-en-coaching-esencial-nivel-12-ed-semin-intensivo-sabados-marzo25-2/
LOCATION:Carrer Ceràmica, 39, 08035 Barcelona, España
END:VEVENT
END:VCALENDAR
