BEGIN:VCALENDAR
VERSION:2.0
PRODID:-//Essential Institute by Cris Bolívar
CALSCALE:GREGORIAN
METHOD:PUBLISH
X-WR-CALNAME:Essential Institute by Cris Bolívar
X-ORIGINAL-URL:https://www.essentialinstitute.org/tienda/_eventos/coaching/sanar-la-herida-y-vivir-en-plenitud-v-semana-voces-que-inspiran/
X-WR-CALDESC:“Sanar la herida y vivir en plenitud” &#8211; V Semana Voces que Inspiran
BEGIN:VEVENT
DTSTART;TZID=Europe/Helsinki:20250609T190000
DTEND;TZID=Europe/Helsinki:20250609T200000
SUMMARY:“Sanar la herida y vivir en plenitud” – V Semana Voces que Inspiran
DESCRIPTION:
URL:https://www.essentialinstitute.org/tienda/_eventos/coaching/sanar-la-herida-y-vivir-en-plenitud-v-semana-voces-que-inspiran/
LOCATION:
END:VEVENT
END:VCALENDAR
