BEGIN:VCALENDAR
VERSION:2.0
PRODID:-//Essential Institute by Cris Bolívar
CALSCALE:GREGORIAN
METHOD:PUBLISH
X-WR-CALNAME:Essential Institute by Cris Bolívar
X-ORIGINAL-URL:https://www.essentialinstitute.org/tienda/_eventos/programas-formativos/meta-vision-super-vision-inter-vision-grupal-para-coaches-aula-virtual-4/
X-WR-CALDESC:META-VISIÓN (Super-Visión/Inter-Visión) GRUPAL para COACHES &#8211; Aula virtual
BEGIN:VEVENT
DTSTART;TZID=Europe/Helsinki:20250424T153000
DTEND;TZID=Europe/Helsinki:20250424T173000
SUMMARY:META-VISIÓN (Super-Visión/Inter-Visión) GRUPAL para COACHES – Aula virtual
DESCRIPTION:Ver toda la información más abajo &nbsp;
URL:https://www.essentialinstitute.org/tienda/_eventos/programas-formativos/meta-vision-super-vision-inter-vision-grupal-para-coaches-aula-virtual-4/
LOCATION:Carrer Ceràmica, 39, 08035 Barcelona, España
END:VEVENT
END:VCALENDAR
