BEGIN:VCALENDAR
VERSION:2.0
PRODID:-//Essential Institute by Cris Bolívar
CALSCALE:GREGORIAN
METHOD:PUBLISH
X-WR-CALNAME:Essential Institute by Cris Bolívar
X-ORIGINAL-URL:https://www.essentialinstitute.org/tienda/_eventos/empresa/taller-generacion-de-equipos-de-alto-desempeno-a-traves-del-eneagrama-esencial-4/
X-WR-CALDESC:Taller «GENERACIÓN DE EQUIPOS DE ALTO DESEMPEÑO A TRAVÉS DEL ENEAGRAMA ESENCIAL»
BEGIN:VEVENT
DTSTART;TZID=Europe/Helsinki:20250612T180000
DTEND;TZID=Europe/Helsinki:20250612T220000
SUMMARY:Taller «GENERACIÓN DE EQUIPOS DE ALTO DESEMPEÑO A TRAVÉS DEL ENEAGRAMA ESENCIAL»
DESCRIPTION:VER MÁS ABAJO, EN LA "Descripción", EL DETALLE DE TODA LA INFORMACIÓN
URL:https://www.essentialinstitute.org/tienda/_eventos/empresa/taller-generacion-de-equipos-de-alto-desempeno-a-traves-del-eneagrama-esencial-4/
LOCATION:
END:VEVENT
END:VCALENDAR
