BEGIN:VCALENDAR
VERSION:2.0
PRODID:-//Essential Institute by Cris Bolívar
CALSCALE:GREGORIAN
METHOD:PUBLISH
X-WR-CALNAME:Essential Institute by Cris Bolívar
X-ORIGINAL-URL:https://www.essentialinstitute.org/tienda/_eventos/seminarios-talleres/taller-vivir-desde-el-hamor-para-focweek/
X-WR-CALDESC:Taller «VIVIR DESDE EL HAMOR” para FOC Week
BEGIN:VEVENT
DTSTART;TZID=Europe/Helsinki:20250709T190000
DTEND;TZID=Europe/Helsinki:20250709T210000
SUMMARY:Taller «VIVIR DESDE EL HAMOR” para FOC Week
DESCRIPTION:
URL:https://www.essentialinstitute.org/tienda/_eventos/seminarios-talleres/taller-vivir-desde-el-hamor-para-focweek/
LOCATION:
END:VEVENT
END:VCALENDAR
