BEGIN:VCALENDAR
VERSION:2.0
PRODID:-//Essential Institute by Cris Bolívar
CALSCALE:GREGORIAN
METHOD:PUBLISH
X-WR-CALNAME:Essential Institute by Cris Bolívar
X-ORIGINAL-URL:https://www.essentialinstitute.org/tienda/_eventos/thubten-sherab-ling/retiro-de-meditacion-presencial-o-por-aula-virtual-2/
X-WR-CALDESC:RETIRO de MEDITACIÓN (presencial o por aula virtual)
BEGIN:VEVENT
DTSTART;TZID=Europe/Helsinki:20251018T100000
DTEND;TZID=Europe/Helsinki:20251018T200000
SUMMARY:RETIRO de MEDITACIÓN (presencial o por aula virtual)
DESCRIPTION:VER MÁS ABAJO, EN LA «Descripción», EL DETALLE DE TODA LA INFORMACIÓN 
URL:https://www.essentialinstitute.org/tienda/_eventos/thubten-sherab-ling/retiro-de-meditacion-presencial-o-por-aula-virtual-2/
LOCATION:Barcelona, España
END:VEVENT
END:VCALENDAR
