BEGIN:VCALENDAR
VERSION:2.0
PRODID:-//Essential Institute by Cris Bolívar
CALSCALE:GREGORIAN
METHOD:PUBLISH
X-WR-CALNAME:Essential Institute by Cris Bolívar
X-ORIGINAL-URL:https://www.essentialinstitute.org/?post_type=product&p=42591
X-WR-CALDESC:Programa Acreditado Internacionalmente ATP por IEA &#8211; «TEORÍA Y APLICACIÓN DEL ENEAGRAMA ESENCIAL (EN COACHING)» &#8211; Aula virtual o Presencial
BEGIN:VEVENT
DTSTART;TZID=Europe/Helsinki:20260220T150000
DTEND;TZID=Europe/Helsinki:20260220T180000
SUMMARY:Programa Acreditado Internacionalmente ATP por IEA – «TEORÍA Y APLICACIÓN DEL ENEAGRAMA ESENCIAL (EN COACHING)» – Aula virtual o Presencial
DESCRIPTION:350 eur se corresponden con la reserva de plaza. VER MÁS ABAJO, EN LA «Descripción», EL DETALLE DE TODA LA INFORMACIÓN (ver calendario en el pdf)
URL:https://www.essentialinstitute.org/?post_type=product&p=42591
LOCATION:Carrer Ceràmica, 39, 08035 Barcelona, España
END:VEVENT
END:VCALENDAR
