BEGIN:VCALENDAR
VERSION:2.0
PRODID:-//Essential Institute by Cris Bolívar
CALSCALE:GREGORIAN
METHOD:PUBLISH
X-WR-CALNAME:Essential Institute by Cris Bolívar
X-ORIGINAL-URL:https://www.essentialinstitute.org/tienda/_eventos/coaching/charla-gratuita-distinciones-del-coaching-esencial-y-presentacion-del-programa-integral-de-formacion-en-coaching-esencial-niveles-1-y-2-aula-virtual/
X-WR-CALDESC:Charla GRATUITA «DISTINCIONES DEL COACHING ESENCIAL” y PRESENTACIÓN DEL PROGRAMA INTEGRAL DE FORMACIÓN EN COACHING ESENCIAL – NIVELES 1 y 2 – Aula virtual
BEGIN:VEVENT
DTSTART;TZID=Europe/Helsinki:20260209T140000
DTEND;TZID=Europe/Helsinki:20260209T150000
SUMMARY:Charla GRATUITA «DISTINCIONES DEL COACHING ESENCIAL” y PRESENTACIÓN DEL PROGRAMA INTEGRAL DE FORMACIÓN EN COACHING ESENCIAL – NIVELES 1 y 2 – Aula virtual
DESCRIPTION:Más información abajo, en la descripción.
URL:https://www.essentialinstitute.org/tienda/_eventos/coaching/charla-gratuita-distinciones-del-coaching-esencial-y-presentacion-del-programa-integral-de-formacion-en-coaching-esencial-niveles-1-y-2-aula-virtual/
LOCATION:
END:VEVENT
END:VCALENDAR
