BEGIN:VCALENDAR
VERSION:2.0
PRODID:-//Essential Institute by Cris Bolívar
CALSCALE:GREGORIAN
METHOD:PUBLISH
X-WR-CALNAME:Essential Institute by Cris Bolívar
X-ORIGINAL-URL:https://www.essentialinstitute.org/tienda/_eventos/programas-formativos/maestria-y-arte-en-coaching-esencial-nivel-3-de-maestria-del-programa-integral-de-formacion-en-coaching-esencial/
X-WR-CALDESC:MAESTRÍA Y ARTE EN COACHING ESENCIAL, Nivel 3 de Maestría del Programa Integral de Formación en Coaching Esencial
BEGIN:VEVENT
DTSTART;TZID=Europe/Helsinki:20260304T180000
DTEND;TZID=Europe/Helsinki:20260304T220000
SUMMARY:MAESTRÍA Y ARTE EN COACHING ESENCIAL, Nivel 3 de Maestría del Programa Integral de Formación en Coaching Esencial
DESCRIPTION:El importe de 500 eur se corresponde con la reserva de plaza. Ver el importe total y el programa en el pdf descargable según elijas la modalidad Profesional o Avanzado. VER MÁS ABAJO, en la "Descripción", EL DETALLE DE TODA LA INFORMACIÓN, y encuentra el pdf descargable 👇🏼
URL:https://www.essentialinstitute.org/tienda/_eventos/programas-formativos/maestria-y-arte-en-coaching-esencial-nivel-3-de-maestria-del-programa-integral-de-formacion-en-coaching-esencial/
LOCATION:Carrer Ceràmica, 39, 08035 Barcelona, España
END:VEVENT
END:VCALENDAR
