BEGIN:VCALENDAR
VERSION:2.0
PRODID:-//Essential Institute by Cris Bolívar
CALSCALE:GREGORIAN
METHOD:PUBLISH
X-WR-CALNAME:Essential Institute by Cris Bolívar
X-ORIGINAL-URL:https://www.essentialinstitute.org/tienda/_eventos/coaching/taller-presencial-descubre-las-metacompetencias-mas-alla-del-enfoque-competencial-colegio-oficial-psicologia-cataluna-copy/
X-WR-CALDESC:Taller presencial «Descubre las Metacompetencias: más allá del enfoque competencial» &#8211; Colegio Oficial Psicología Cataluña
BEGIN:VEVENT
DTSTART;TZID=Europe/Helsinki:20260304T180000
DTEND;TZID=Europe/Helsinki:20260304T203000
SUMMARY:Taller presencial «Descubre las Metacompetencias: más allá del enfoque competencial» – Colegio Oficial Psicología Cataluña
DESCRIPTION:
URL:https://www.essentialinstitute.org/tienda/_eventos/coaching/taller-presencial-descubre-las-metacompetencias-mas-alla-del-enfoque-competencial-colegio-oficial-psicologia-cataluna-copy/
LOCATION:
END:VEVENT
END:VCALENDAR
