BEGIN:VCALENDAR
VERSION:2.0
PRODID:-//Essential Institute by Cris Bolívar
CALSCALE:GREGORIAN
METHOD:PUBLISH
X-WR-CALNAME:Essential Institute by Cris Bolívar
X-ORIGINAL-URL:https://www.essentialinstitute.org/tienda/_eventos/coaching/taller-de-introduccion-al-eneagrama-esencial-presencial-o-por-aula-virtual/
X-WR-CALDESC:Taller de INTRODUCCIÓN al ENEAGRAMA ESENCIAL &#8211; Presencial o por Aula Virtual
BEGIN:VEVENT
DTSTART;TZID=Europe/Helsinki:20260509T160000
DTEND;TZID=Europe/Helsinki:20260509T213000
SUMMARY:Taller de INTRODUCCIÓN al ENEAGRAMA ESENCIAL – Presencial o por Aula Virtual
DESCRIPTION:Ver toda la información más abajo. Con créditos para su acreditación por la International Enneagram Association (IEA). Válido para la obtención de créditos de formación International Coaching Federation (ICF) para coaches.
URL:https://www.essentialinstitute.org/tienda/_eventos/coaching/taller-de-introduccion-al-eneagrama-esencial-presencial-o-por-aula-virtual/
LOCATION:Carrer Ceràmica, 39, 08035 Barcelona, España
END:VEVENT
END:VCALENDAR
