BEGIN:VCALENDAR
VERSION:2.0
PRODID:-//Essential Institute by Cris Bolívar
CALSCALE:GREGORIAN
METHOD:PUBLISH
X-WR-CALNAME:Essential Institute by Cris Bolívar
X-ORIGINAL-URL:https://www.essentialinstitute.org/tienda/_eventos/coaching/taller-introduccion-a-la-teoria-sistemica-aula-virtual-o-presencial/
X-WR-CALDESC:Taller «Introducción a la teoría SISTÉMICA» &#8211; aula virtual o presencial
BEGIN:VEVENT
DTSTART;TZID=Europe/Helsinki:20260508T183000
DTEND;TZID=Europe/Helsinki:20260508T213000
SUMMARY:Taller «Introducción a la teoría SISTÉMICA» – aula virtual o presencial
DESCRIPTION:&nbsp; Válido para la obtención de créditos de formación ICF para coaches.
URL:https://www.essentialinstitute.org/tienda/_eventos/coaching/taller-introduccion-a-la-teoria-sistemica-aula-virtual-o-presencial/
LOCATION:Carrer Ceràmica, 39, 08035 Barcelona, España
END:VEVENT
END:VCALENDAR
