BEGIN:VCALENDAR
VERSION:2.0
PRODID:-//Essential Institute by Cris Bolívar
CALSCALE:GREGORIAN
METHOD:PUBLISH
X-WR-CALNAME:Essential Institute by Cris Bolívar
X-ORIGINAL-URL:https://www.essentialinstitute.org/tienda/_eventos/thubten-sherab-ling/taller-meditacion-aplicada-al-coaching-aula-virtual-o-presencial/
X-WR-CALDESC:Taller “MEDITACIÓN aplicada al COACHING” &#8211; Aula Virtual o presencial
BEGIN:VEVENT
DTSTART;TZID=Europe/Helsinki:20260522T183000
DTEND;TZID=Europe/Helsinki:20260522T213000
SUMMARY:Taller “MEDITACIÓN aplicada al COACHING” – Aula Virtual o presencial
DESCRIPTION:VER MÁS ABAJO, EN LA «Descripción», EL DETALLE DE TODA LA INFORMACIÓN Con créditos para la renovación de credenciales ICF.
URL:https://www.essentialinstitute.org/tienda/_eventos/thubten-sherab-ling/taller-meditacion-aplicada-al-coaching-aula-virtual-o-presencial/
LOCATION:Carrer Ceràmica, 39, 08035 Barcelona, España
END:VEVENT
END:VCALENDAR
