BEGIN:VCALENDAR
VERSION:2.0
PRODID:-//Essential Institute by Cris Bolívar
CALSCALE:GREGORIAN
METHOD:PUBLISH
X-WR-CALNAME:Essential Institute by Cris Bolívar
X-ORIGINAL-URL:https://www.essentialinstitute.org/tienda/_eventos/programas-formativos/programa-integral-de-formacion-en-coaching-esencial-nivel-1-intensivo-julio26/
X-WR-CALDESC:Programa Integral de Formación en Coaching Esencial &#8211; Nivel 1 &#8211; INTENSIVO JULIO&#8217;26
BEGIN:VEVENT
DTSTART;TZID=Europe/Helsinki:20260701T150000
DTEND;TZID=Europe/Helsinki:20260701T210000
SUMMARY:Programa Integral de Formación en Coaching Esencial – Nivel 1 – INTENSIVO JULIO’26
DESCRIPTION:El importe de 500 eur se corresponde con la reserva de plaza. VER MÁS ABAJO, EN LA «Descripción», EL DETALLE DE TODA LA INFORMACIÓN y ACCESO AL PDF descargable donde encontrarás el calendario, temario, importe... &nbsp;
URL:https://www.essentialinstitute.org/tienda/_eventos/programas-formativos/programa-integral-de-formacion-en-coaching-esencial-nivel-1-intensivo-julio26/
LOCATION:Carrer Ceràmica, 39, 08035 Barcelona, España
END:VEVENT
END:VCALENDAR
