BEGIN:VCALENDAR
VERSION:2.0
PRODID:-//Essential Institute by Cris Bolívar
CALSCALE:GREGORIAN
METHOD:PUBLISH
X-WR-CALNAME:Essential Institute by Cris Bolívar
X-ORIGINAL-URL:https://www.essentialinstitute.org/tienda/_eventos/programas-formativos/programa-tu-marca-personal-desde-la-esencialidad-3/
X-WR-CALDESC:Programa «TU MARCA PERSONAL DESDE LA ESENCIALIDAD»
BEGIN:VEVENT
DTSTART;TZID=Europe/Helsinki:20260519T190000
DTEND;TZID=Europe/Helsinki:20260519T210000
SUMMARY:Programa «TU MARCA PERSONAL DESDE LA ESENCIALIDAD»
DESCRIPTION:Ver toda la información y descargar el pdf 👇🏼
URL:https://www.essentialinstitute.org/tienda/_eventos/programas-formativos/programa-tu-marca-personal-desde-la-esencialidad-3/
LOCATION:Carrer de la Ceràmica, 39, Barcelona, España
END:VEVENT
END:VCALENDAR
